BEGIN:VCALENDAR
VERSION:2.0
METHOD:PUBLISH
PRODID:SimpleCalendar
BEGIN:VEVENT
UID:@simplecalendar-RGZEV Gäuboden
CATEGORIES:Vereinsveranstaltungen
CLASS:PUBLIC
DTSTAMP:20260421T160345Z
CREATED:20260421T160345Z
SUMMARY:Aufbau HSS Dt. Schautauben
DESCRIPTION:Aufbau HSS Dt. Schautauben Gäubodenhalle /
LOCATION:Gäubodenhalle
LAST-MODIFIED:20251226T091642Z
URL:https://rassegefluegel-gaeuboden.de/index.php/termine/19-vereinsveranstaltungen/537-aufbau-hss-dt-schautauben
TRANSP:OPAQUE
DTSTART:20261106T010000Z
DTEND:20261107T010000Z
END:VEVENT
END:VCALENDAR