BEGIN:VCALENDAR
VERSION:2.0
METHOD:PUBLISH
PRODID:SimpleCalendar
BEGIN:VEVENT
UID:@simplecalendar-RGZEV Gäuboden
CATEGORIES:Vereinsveranstaltungen
CLASS:PUBLIC
DTSTAMP:20260422T001438Z
CREATED:20260422T001438Z
SUMMARY:64. HSS der Dt. Modeneser
DESCRIPTION:64. HSS der Dt. Modeneser Gäubodenhalle /
LOCATION:Gäubodenhalle
LAST-MODIFIED:20251226T092607Z
URL:https://rassegefluegel-gaeuboden.de/index.php/termine/19-vereinsveranstaltungen/543-64-hss-der-dt-modeneser
TRANSP:OPAQUE
DTSTART:20281118T010000Z
DTEND:20281119T010000Z
END:VEVENT
END:VCALENDAR