BEGIN:VCALENDAR
VERSION:2.0
METHOD:PUBLISH
PRODID:SimpleCalendar
BEGIN:VEVENT
UID:@simplecalendar-RGZEV Gäuboden
CATEGORIES:Ausstellungen
CLASS:PUBLIC
DTSTAMP:20260421T201128Z
CREATED:20260421T201128Z
SUMMARY:VDT-Schau
DESCRIPTION:VDT-Schau Ulm /
LOCATION:Ulm
LAST-MODIFIED:20220728T141254Z
URL:https://rassegefluegel-gaeuboden.de/index.php/termine/20-ausstellungen/369-vdt-schau-3d1f437
TRANSP:OPAQUE
DTSTART:20261219T010000Z
DTEND:20261220T010000Z
END:VEVENT
END:VCALENDAR