BEGIN:VCALENDAR
VERSION:2.0
METHOD:PUBLISH
PRODID:SimpleCalendar
BEGIN:VEVENT
UID:@simplecalendar-RGZEV Gäuboden
CATEGORIES:Ausstellungen
CLASS:PUBLIC
DTSTAMP:20260421T181231Z
CREATED:20260421T181231Z
SUMMARY:Lipsia und Nationale Bundessiegerschau
DESCRIPTION:Lipsia und Nationale Bundessiegerschau Leipzig /
LOCATION:Leipzig
LAST-MODIFIED:20220728T141353Z
URL:https://rassegefluegel-gaeuboden.de/index.php/termine/20-ausstellungen/370-lipsia-und-nationale-bundessiegerschau
TRANSP:OPAQUE
DTSTART:20261204T010000Z
DTEND:20261206T010000Z
END:VEVENT
END:VCALENDAR