BEGIN:VCALENDAR
VERSION:2.0
METHOD:PUBLISH
PRODID:SimpleCalendar
BEGIN:VEVENT
UID:@simplecalendar-RGZEV Gäuboden
CATEGORIES:Ausstellungen
CLASS:PUBLIC
DTSTAMP:20260421T221709Z
CREATED:20260421T221709Z
SUMMARY:VHGW- und VZV-Schau
DESCRIPTION:VHGW- und VZV-Schau Erfurt /
LOCATION:Erfurt
LAST-MODIFIED:20220728T141545Z
URL:https://rassegefluegel-gaeuboden.de/index.php/termine/20-ausstellungen/372-vhgw-und-vzv-schau
TRANSP:OPAQUE
DTSTART:20271119T010000Z
DTEND:20271121T010000Z
END:VEVENT
END:VCALENDAR