BEGIN:VCALENDAR
VERSION:2.0
METHOD:PUBLISH
PRODID:SimpleCalendar
BEGIN:VEVENT
UID:@simplecalendar-RGZEV Gäuboden
CATEGORIES:Ausstellungen
CLASS:PUBLIC
DTSTAMP:20260421T174057Z
CREATED:20260421T174057Z
SUMMARY:Lipsia und VDT-Schau
DESCRIPTION:Lipsia und VDT-Schau Leipzig /
LOCATION:Leipzig
LAST-MODIFIED:20220728T141633Z
URL:https://rassegefluegel-gaeuboden.de/index.php/termine/20-ausstellungen/373-lipsia-und-vdt-schau
TRANSP:OPAQUE
DTSTART:20271203T010000Z
DTEND:20271205T010000Z
END:VEVENT
END:VCALENDAR