BEGIN:VCALENDAR
VERSION:2.0
METHOD:PUBLISH
PRODID:SimpleCalendar
BEGIN:VEVENT
UID:@simplecalendar-RGZEV Gäuboden
CATEGORIES:Ausstellungen
CLASS:PUBLIC
DTSTAMP:20260421T180916Z
CREATED:20260421T180916Z
SUMMARY:VDT-Schau
DESCRIPTION:VDT-Schau Magdeburg /
LOCATION:Magdeburg
LAST-MODIFIED:20220728T141811Z
URL:https://rassegefluegel-gaeuboden.de/index.php/termine/20-ausstellungen/375-vdt-schau-5b52145
TRANSP:OPAQUE
DTSTART:20281216T010000Z
DTEND:20281217T010000Z
END:VEVENT
END:VCALENDAR