BEGIN:VCALENDAR
VERSION:2.0
METHOD:PUBLISH
PRODID:SimpleCalendar
BEGIN:VEVENT
UID:@simplecalendar-RGZEV Gäuboden
CATEGORIES:Ausstellungen
CLASS:PUBLIC
DTSTAMP:20260421T221905Z
CREATED:20260421T221905Z
SUMMARY:Lipsia mit VHGW- und VZV-Schau
DESCRIPTION:Lipsia mit VHGW- und VZV-Schau Leipzig /
LOCATION:Leipzig
LAST-MODIFIED:20220728T141855Z
URL:https://rassegefluegel-gaeuboden.de/index.php/termine/20-ausstellungen/376-lipsia-mit-vhgw-und-vzv-schau
TRANSP:OPAQUE
DTSTART:20281201T010000Z
DTEND:20281203T010000Z
END:VEVENT
END:VCALENDAR