BEGIN:VCALENDAR
VERSION:2.0
METHOD:PUBLISH
PRODID:SimpleCalendar
BEGIN:VEVENT
UID:@simplecalendar-RGZEV Gäuboden
CATEGORIES:Ausstellungen
CLASS:PUBLIC
DTSTAMP:20260421T181201Z
CREATED:20260421T181201Z
SUMMARY:Nationale Bundessiegerschau
DESCRIPTION:Nationale Bundessiegerschau Erfurt /
LOCATION:Erfurt
LAST-MODIFIED:20220728T142042Z
URL:https://rassegefluegel-gaeuboden.de/index.php/termine/20-ausstellungen/378-nationale-bundessiegerschau-21fe34c
TRANSP:OPAQUE
DTSTART:20291123T010000Z
DTEND:20291125T010000Z
END:VEVENT
END:VCALENDAR