BEGIN:VCALENDAR
VERSION:2.0
METHOD:PUBLISH
PRODID:SimpleCalendar
BEGIN:VEVENT
UID:@simplecalendar-RGZEV Gäuboden
CATEGORIES:Ausstellungen
CLASS:PUBLIC
DTSTAMP:20260421T221500Z
CREATED:20260421T221500Z
SUMMARY:VHGW- und VZV-Schau
DESCRIPTION:VHGW- und VZV-Schau Erfurt /
LOCATION:Erfurt
LAST-MODIFIED:20220728T142208Z
URL:https://rassegefluegel-gaeuboden.de/index.php/termine/20-ausstellungen/380-vhgw-und-vzv-schau-e4e785a
TRANSP:OPAQUE
DTSTART:20301122T010000Z
DTEND:20301124T010000Z
END:VEVENT
END:VCALENDAR