BEGIN:VCALENDAR
VERSION:2.0
METHOD:PUBLISH
PRODID:SimpleCalendar
BEGIN:VEVENT
UID:@simplecalendar-RGZEV Gäuboden
CATEGORIES:Ausstellungen
CLASS:PUBLIC
DTSTAMP:20260421T182330Z
CREATED:20260421T182330Z
SUMMARY:Lipsia und Nationale Bundessiegerschau
DESCRIPTION:Lipsia und Nationale Bundessiegerschau Leipzig /
LOCATION:Leipzig
LAST-MODIFIED:20220728T142247Z
URL:https://rassegefluegel-gaeuboden.de/index.php/termine/20-ausstellungen/381-lipsia-und-nationale-bundessiegerschau-95f3d4a
TRANSP:OPAQUE
DTSTART:20301206T010000Z
DTEND:20301208T010000Z
END:VEVENT
END:VCALENDAR