BEGIN:VCALENDAR
VERSION:2.0
METHOD:PUBLISH
PRODID:SimpleCalendar
BEGIN:VEVENT
UID:@simplecalendar-RGZEV Gäuboden
CATEGORIES:Ausstellungen
CLASS:PUBLIC
DTSTAMP:20260421T174004Z
CREATED:20260421T174004Z
SUMMARY:VHGW-/VZV-Schau
DESCRIPTION:VHGW-/VZV-Schau Erfurt /
LOCATION:Erfurt
LAST-MODIFIED:20250116T070054Z
URL:https://rassegefluegel-gaeuboden.de/index.php/termine/20-ausstellungen/502-vhgw-vzv-schau-c7dbcf4
TRANSP:OPAQUE
DTSTART:20261016T000000Z
DTEND:20261018T000000Z
END:VEVENT
END:VCALENDAR