BEGIN:VCALENDAR
VERSION:2.0
METHOD:PUBLISH
PRODID:SimpleCalendar
BEGIN:VEVENT
UID:@simplecalendar-RGZEV Gäuboden
CATEGORIES:Ausstellungen
CLASS:PUBLIC
DTSTAMP:20260421T173756Z
CREATED:20260421T173756Z
SUMMARY:HSS Dt. Schautauben
DESCRIPTION:HSS Dt. Schautauben Gäubodenhalle /
LOCATION:Gäubodenhalle
LAST-MODIFIED:20250116T070227Z
URL:https://rassegefluegel-gaeuboden.de/index.php/termine/20-ausstellungen/503-hss-dt-schautauben
TRANSP:OPAQUE
DTSTART:20261121T010000Z
DTEND:20261122T010000Z
END:VEVENT
END:VCALENDAR