BEGIN:VCALENDAR
VERSION:2.0
METHOD:PUBLISH
PRODID:SimpleCalendar
BEGIN:VEVENT
UID:@simplecalendar-RGZEV Gäuboden
CATEGORIES:Ausstellungen
CLASS:PUBLIC
DTSTAMP:20260421T181621Z
CREATED:20260421T181621Z
SUMMARY:Vereinsschau "Rassegeflügel im Gäuboden 2026" und 7.Bay. Huhntaubenschau
DESCRIPTION:Vereinsschau "Rassegeflügel im Gäuboden 2026" und 7.Bay. Huhntaubenschau  Gäubodenhalle /
LOCATION:Gäubodenhalle
LAST-MODIFIED:20250116T070333Z
URL:https://rassegefluegel-gaeuboden.de/index.php/termine/20-ausstellungen/504-vereinsschau-rassegefluegel-im-gaeuboden-2026-und-7-bay-huhntaubenschau
TRANSP:OPAQUE
DTSTART:20270109T010000Z
DTEND:20270110T010000Z
END:VEVENT
END:VCALENDAR