BEGIN:VCALENDAR
VERSION:2.0
METHOD:PUBLISH
PRODID:SimpleCalendar
BEGIN:VEVENT
UID:@simplecalendar-RGZEV Gäuboden
CATEGORIES:Ausstellungen
CLASS:PUBLIC
DTSTAMP:20260421T201928Z
CREATED:20260421T201928Z
SUMMARY:HSS der Strasser und GS Gruppe Süd der Mährischen Strasser - "Große und kleine Strasser unter dem Dach der Gäubodenhalle"
DESCRIPTION:HSS der Strasser und GS Gruppe Süd der Mährischen Strasser - "Große und  kleine Strasser unter dem Dach der Gäubodenhalle" Gäubodenhalle /
LOCATION:Gäubodenhalle
LAST-MODIFIED:20250116T070614Z
URL:https://rassegefluegel-gaeuboden.de/index.php/termine/20-ausstellungen/506-hss-der-strasser-und-gs-gruppe-sued-der-maehrischen-strasser-grosse-und-kleine-strasser-unter-dem-dach-der-gaeubodenhalle
TRANSP:OPAQUE
DTSTART:20271113T010000Z
DTEND:20271114T010000Z
END:VEVENT
END:VCALENDAR