BEGIN:VCALENDAR
VERSION:2.0
METHOD:PUBLISH
PRODID:SimpleCalendar
BEGIN:VEVENT
UID:@simplecalendar-RGZEV Gäuboden
CATEGORIES:Ausstellungen
CLASS:PUBLIC
DTSTAMP:20260421T174818Z
CREATED:20260421T174818Z
SUMMARY:RBES der Malteser, Florentiner & Huhnschecke und Stellerkröpfer, BSS der Dt. Modeneser, Vereinsschau "Rassegeflügel im Gäuboden 2027"
DESCRIPTION:RBES der Malteser, Florentiner & Huhnschecke und Stellerkröpfer, BSS der D t. Modeneser, Vereinsschau "Rassegeflügel im Gäuboden 2027" Gäubodenhal le /
LOCATION:Gäubodenhalle
LAST-MODIFIED:20251226T092830Z
URL:https://rassegefluegel-gaeuboden.de/index.php/termine/20-ausstellungen/544-rbes-der-malteser-florentiner-huhnschecke-und-stellerkroepfer-bss-der-dt-modeneser-vereinsschau-rassegefluegel-im-gaeuboden-2027
TRANSP:OPAQUE
DTSTART:20271218T010000Z
DTEND:20271219T010000Z
END:VEVENT
END:VCALENDAR