BEGIN:VCALENDAR
VERSION:2.0
METHOD:PUBLISH
PRODID:SimpleCalendar
BEGIN:VEVENT
UID:@simplecalendar-RGZEV Gäuboden
CATEGORIES:Ausstellungen
CLASS:PUBLIC
DTSTAMP:20260423T151331Z
CREATED:20260423T151331Z
SUMMARY:8.Bay. Huhntaubenschau, Vereinsschau "Rassegeflügel im Gäuboden 2028"
DESCRIPTION:8.Bay. Huhntaubenschau, Vereinsschau "Rassegeflügel im Gäuboden 2028" Gä ubodenhalle /
LOCATION:Gäubodenhalle
LAST-MODIFIED:20251226T093037Z
URL:https://rassegefluegel-gaeuboden.de/index.php/termine/20-ausstellungen/545-8-bay-huhntaubenschau-vereinsschau-rassegefluegel-im-gaeuboden-2028
TRANSP:OPAQUE
DTSTART:20290106T010000Z
DTEND:20290107T010000Z
END:VEVENT
END:VCALENDAR