BEGIN:VCALENDAR
VERSION:2.0
METHOD:PUBLISH
PRODID:SimpleCalendar
BEGIN:VEVENT
UID:@simplecalendar-RGZEV Gäuboden
CATEGORIES:Ausstellungen
CLASS:PUBLIC
DTSTAMP:20260421T181132Z
CREATED:20260421T181132Z
SUMMARY:RBES der Modena
DESCRIPTION:RBES der Modena Gäubodenhalle /
LOCATION:Gäubodenhalle
LAST-MODIFIED:20251226T093113Z
URL:https://rassegefluegel-gaeuboden.de/index.php/termine/20-ausstellungen/546-rbes-der-modena
TRANSP:OPAQUE
DTSTART:20291110T010000Z
DTEND:20291111T010000Z
END:VEVENT
END:VCALENDAR