BEGIN:VCALENDAR
VERSION:2.0
METHOD:PUBLISH
PRODID:SimpleCalendar
BEGIN:VEVENT
UID:@simplecalendar-RGZEV Gäuboden
CATEGORIES:Ausstellungen
CLASS:PUBLIC
DTSTAMP:20260421T181548Z
CREATED:20260421T181548Z
SUMMARY:Weltausstellung der Kropftauben aus Schlesien
DESCRIPTION:Weltausstellung der Kropftauben aus Schlesien Gäubodenhalle /
LOCATION:Gäubodenhalle
LAST-MODIFIED:20251226T093154Z
URL:https://rassegefluegel-gaeuboden.de/index.php/termine/20-ausstellungen/547-weltausstellung-der-kropftauben-aus-schlesien
TRANSP:OPAQUE
DTSTART:20291222T010000Z
DTEND:20291223T010000Z
END:VEVENT
END:VCALENDAR