BEGIN:VCALENDAR
VERSION:2.0
METHOD:PUBLISH
PRODID:SimpleCalendar
BEGIN:VEVENT
UID:@simplecalendar-RGZEV Gäuboden
CATEGORIES:Ausstellungen
CLASS:PUBLIC
DTSTAMP:20260421T181227Z
CREATED:20260421T181227Z
SUMMARY:HSS der Barnevelder und Zwerge
DESCRIPTION:HSS der Barnevelder und Zwerge Gäubodenhalle /
LOCATION:Gäubodenhalle
LAST-MODIFIED:20260108T071404Z
URL:https://rassegefluegel-gaeuboden.de/index.php/termine/20-ausstellungen/549-hss-der-barnevelder-und-zwerge
TRANSP:OPAQUE
DTSTART:20311004T000000Z
DTEND:20311005T000000Z
END:VEVENT
END:VCALENDAR