BEGIN:VCALENDAR
VERSION:2.0
METHOD:PUBLISH
PRODID:SimpleCalendar
BEGIN:VEVENT
UID:@simplecalendar-RGZEV Gäuboden
CATEGORIES:Veranstaltungen anderer Vereine
CLASS:PUBLIC
DTSTAMP:20260421T181242Z
CREATED:20260421T181242Z
SUMMARY:Kreisschau
DESCRIPTION:Kreisschau  Niederwinkling /
LOCATION:Niederwinkling
LAST-MODIFIED:20251226T092254Z
URL:https://rassegefluegel-gaeuboden.de/index.php/termine/21-veranstaltungen-anderer-vereine/539-kreisschau
TRANSP:OPAQUE
DTSTART:20261212T010000Z
DTEND:20261213T010000Z
END:VEVENT
END:VCALENDAR